BEGIN:VCALENDAR
VERSION:2.0
PRODID:https://github.com/derhansen/sf_event_mgt
METHOD:PUBLISH
BEGIN:VEVENT
UID:71-383@www.bempsy.de
CLASS: PUBLIC
SUMMARY:Deutscher Patientenkongress Depression 2026
DESCRIPTION:Der Deutsche Patientenkongress Depression wird am 30. Mai 2026 
 in Frankfurt am Main stattfinden. Harald Schmidt, Schirmherr der Stiftung D
 eutsche Depressionshilfe und Suizidprävention, wird erneut die Moderation ü
 bernehmen. Auch der ehemalige Radprofi Jan Ullrich, der ehemalige Vereidigu
 ngsminister Karl-Theodor zu Guttenberg sowie Brautmodendesignerin ("Zwische
 n Tüll & Tränen") Sanna Lindström haben bereits zugesagt. Die Anmeldung ist
  offen.\n\nQuelle und weitere Informationen: Selbsthilfe vor Ort - Stiftung
  Deutsche Depressionshilfe
DTSTAMP:20260224T072831Z
DTSTART:20260530T080000Z
DTEND:20260530T160000Z
END:VEVENT
END:VCALENDAR
